BEGIN:VCALENDAR
VERSION:2.0
PRODID:-//thetroth.org - ECPv6.15.20//NONSGML v1.0//EN
CALSCALE:GREGORIAN
METHOD:PUBLISH
X-WR-CALNAME:thetroth.org
X-ORIGINAL-URL:https://thetroth.org
X-WR-CALDESC:Events for thetroth.org
REFRESH-INTERVAL;VALUE=DURATION:PT1H
X-Robots-Tag:noindex
X-PUBLISHED-TTL:PT1H
BEGIN:VTIMEZONE
TZID:America/Chicago
BEGIN:DAYLIGHT
TZOFFSETFROM:-0600
TZOFFSETTO:-0500
TZNAME:CDT
DTSTART:20250309T080000
END:DAYLIGHT
BEGIN:STANDARD
TZOFFSETFROM:-0500
TZOFFSETTO:-0600
TZNAME:CST
DTSTART:20251102T070000
END:STANDARD
BEGIN:DAYLIGHT
TZOFFSETFROM:-0600
TZOFFSETTO:-0500
TZNAME:CDT
DTSTART:20260308T080000
END:DAYLIGHT
BEGIN:STANDARD
TZOFFSETFROM:-0500
TZOFFSETTO:-0600
TZNAME:CST
DTSTART:20261101T070000
END:STANDARD
BEGIN:DAYLIGHT
TZOFFSETFROM:-0600
TZOFFSETTO:-0500
TZNAME:CDT
DTSTART:20270314T080000
END:DAYLIGHT
BEGIN:STANDARD
TZOFFSETFROM:-0500
TZOFFSETTO:-0600
TZNAME:CST
DTSTART:20271107T070000
END:STANDARD
END:VTIMEZONE
BEGIN:VEVENT
DTSTART;TZID=America/Chicago:20260307T060000
DTEND;TZID=America/Chicago:20260307T063000
DTSTAMP:20260421T162023
CREATED:20260303T221254Z
LAST-MODIFIED:20260303T221254Z
UID:8102-1772863200-1772865000@thetroth.org
SUMMARY:Saturday Morning Public Prayer Service
DESCRIPTION:Join The Troth every Saturday morning at 7:00 AM Eastern Time for a Heathen Prayer Service hosted by our clergy\nThe service is currently hosted by Rev. Ben Kowalsky-Grahek. \nHave you been curious about how Norse Pagan\, Heathen or Asatru prayer and ritual work? Have you read all your Sagas and Eddas (and your Saxo Grammaticus) and you want to see how we put it into practice? Look no further. The Troth has two weekly public prayer services streamed on Twitch (just Twitch for now\, but looking to expand in the future). \nOur clergy will take you through their practice\, break it down step by step (with citations available!)\, take prayer and praise requests\, and then we will go through the whole thing together\, with open time for questions at the end. \nWe are hoping through this series that we demystify Asatru\, Heathenry and Norse Paganism and show people that it  is not all homework: it’s a belief lived through practice that anyone can do. \nOur service is only 30 minutes long.  \nOutline of the Service\n\nFirst 10 Minutes: Introductions and education on Heathen prayer\nSecond 10 Minutes: Prayer\nLast 10 Minutes: Questions and Answers with the Clergy
URL:https://thetroth.org/event/march-7-saturday-morning-public-prayer-service/
LOCATION:The Troth on Twitch
CATEGORIES:Virtual Event
END:VEVENT
BEGIN:VEVENT
DTSTART;TZID=America/Chicago:20260307T210000
DTEND;TZID=America/Chicago:20260307T213000
DTSTAMP:20260421T162023
CREATED:20260304T024608Z
LAST-MODIFIED:20260308T015552Z
UID:8109-1772917200-1772919000@thetroth.org
SUMMARY:March 7th Saturday Night Public Prayer Service
DESCRIPTION:Join The Troth every Saturday night at 10:00 PM Eastern Time for a Heathen Prayer Service hosted by our clergy\nThe service is currently hosted by Rev. Ben Kowalsky-Grahek. \nHave you been curious about how Norse Pagan\, Heathen or Asatru prayer and ritual work? Have you read all your Sagas and Eddas (and your Saxo Grammaticus) and you want to see how we put it into practice? Look no further. The Troth has two weekly public prayer services streamed on Twitch (just Twitch for now\, but looking to expand in the future). \nOur clergy will take you through their practice\, break it down step by step (with citations available!)\, take prayer and praise requests\, and then we will go through the whole thing together\, with open time for questions at the end. \nWe are hoping through this series that we demystify Asatru\, Heathenry and Norse Paganism and show people that it  is not all homework: it’s a belief lived through practice that anyone can do. \nOur service is only 30 minutes long.  \nOutline of the Service\n\nFirst 10 Minutes: Introductions and education on Heathen prayer\nSecond 10 Minutes: Prayer\nLast 10 Minutes: Questions and Answers with the Clergy
URL:https://thetroth.org/event/march-7-saturday-night-public-prayer-service-2/
LOCATION:The Troth on Twitch
CATEGORIES:Virtual Event
ATTACH;FMTTYPE=image/png:https://thetroth.org/wp-content/uploads/2023/06/placeholder-header.png
END:VEVENT
BEGIN:VEVENT
DTSTART;TZID=America/Chicago:20260314T140000
DTEND;TZID=America/Chicago:20260314T160000
DTSTAMP:20260421T162023
CREATED:20260308T190824Z
LAST-MODIFIED:20260308T190824Z
UID:8175-1773496800-1773504000@thetroth.org
SUMMARY:March 14th Twin Cities Minnesota Inclusive Heathen Meetup
DESCRIPTION:Every 2nd Saturday of the month\, join inclusive Heathens from the Twin Cities for a meetup at White Bear Meadery in White Bear\, Minnesota!\nThis is a casual drop-in event where Heathens\, Norse Pagans and Asatruar from all over the Twin Cities can meet and greet others from the area\, make connections\, plan holiday celebrations\, and of course drink a little mead (or delicious non-alcoholic Simaa)\, chow down on Heggies Pizza\, and support a local meadery! \nNitty Gritty Information\n\nWe try to meet on the 2nd Saturday of each month at 2PM\nThere is no charge for tickets.\nNo child-care will be provided. If you bring your children\, please be sure to mind them while they are at the venue.\nNo food or beverage will be provided.\nMenu for the venue is here \nThis is a Meadery so alcohol will be present though the venue offers several-non alcoholic options.\nThe venue is handicap accessible with free parking.\n\n 
URL:https://thetroth.org/event/march-14th-twin-cities-minnesota-inclusive-heathen-meetup/
LOCATION:White Bear Meadery\, 1320 County Rd D Cir\, Maplewood\, MN\, 55109\, United States
CATEGORIES:In Person Event
ATTACH;FMTTYPE=image/png:https://thetroth.org/wp-content/uploads/2023/06/placeholder-header.png
END:VEVENT
BEGIN:VEVENT
DTSTART;TZID=America/Chicago:20260314T203000
DTEND;TZID=America/Chicago:20260314T210000
DTSTAMP:20260421T162023
CREATED:20260303T221805Z
LAST-MODIFIED:20260303T221805Z
UID:8107-1773520200-1773522000@thetroth.org
SUMMARY:March 14 Saturday Night Public Prayer Service
DESCRIPTION:Join The Troth every Saturday morning at 7:00 AM Eastern Time for a Heathen Prayer Service hosted by our clergy\nThe service is currently hosted by Rev. Ben Kowalsky-Grahek. \nHave you been curious about how Norse Pagan\, Heathen or Asatru prayer and ritual work? Have you read all your Sagas and Eddas (and your Saxo Grammaticus) and you want to see how we put it into practice? Look no further. The Troth has two weekly public prayer services streamed on Twitch (just Twitch for now\, but looking to expand in the future). \nOur clergy will take you through their practice\, break it down step by step (with citations available!)\, take prayer and praise requests\, and then we will go through the whole thing together\, with open time for questions at the end. \nWe are hoping through this series that we demystify Asatru\, Heathenry and Norse Paganism and show people that it  is not all homework: it’s a belief lived through practice that anyone can do. \nOur service is only 30 minutes long.  \nOutline of the Service\n\nFirst 10 Minutes: Introductions and education on Heathen prayer\nSecond 10 Minutes: Prayer\nLast 10 Minutes: Questions and Answers with the Clergy
URL:https://thetroth.org/event/march-14-saturday-night-public-prayer-service/
LOCATION:The Troth on Twitch
CATEGORIES:Virtual Event
END:VEVENT
BEGIN:VEVENT
DTSTART;VALUE=DATE:20260320
DTEND;VALUE=DATE:20260323
DTSTAMP:20260421T162023
CREATED:20260308T185622Z
LAST-MODIFIED:20260308T185622Z
UID:8170-1773964800-1774223999@thetroth.org
SUMMARY:The Troth Co-Hosted Heathen Hospitality Suite at Paganicon 2026
DESCRIPTION:The Troth is co-hosting a Heathen Hospitality Suite with Northern Pagan Church and Minnesota Old Ways Fellowship at Paganicon 2026\nCome visit us during Paganicon 2026 for some respite\, refreshment\, and several exhibits of Norse Pagan projects that are coming from Northern Pagan Church and the Minnesota Old Ways Fellowship!
URL:https://thetroth.org/event/the-troth-co-hosted-heathen-hospitality-suite-at-paganicon-2026/
LOCATION:Paganicon at the Doubletree Hotel Bloomington\, 7800 Normandale Blvd\, Bloomington\, MN\, United States
CATEGORIES:In Person Event
ATTACH;FMTTYPE=image/png:https://thetroth.org/wp-content/uploads/2023/06/placeholder-header.png
END:VEVENT
BEGIN:VEVENT
DTSTART;TZID=America/Chicago:20260321T203000
DTEND;TZID=America/Chicago:20260321T210000
DTSTAMP:20260421T162023
CREATED:20260304T024941Z
LAST-MODIFIED:20260304T024941Z
UID:8111-1774125000-1774126800@thetroth.org
SUMMARY:March 21 Public Prayer Services
DESCRIPTION:Join The Troth every Saturday morning at 7:00 AM and every Saturday night at 9:30 PM Eastern Time for a Heathen Prayer Service hosted by our clergy\nThe service is currently hosted by Rev. Ben Kowalsky-Grahek. \nHave you been curious about how Norse Pagan\, Heathen or Asatru prayer and ritual work? Have you read all your Sagas and Eddas (and your Saxo Grammaticus) and you want to see how we put it into practice? Look no further. The Troth has two weekly public prayer services streamed on Twitch (just Twitch for now\, but looking to expand in the future). \nOur clergy will take you through their practice\, break it down step by step (with citations available!)\, take prayer and praise requests\, and then we will go through the whole thing together\, with open time for questions at the end. \nWe are hoping through this series that we demystify Asatru\, Heathenry and Norse Paganism and show people that it  is not all homework: it’s a belief lived through practice that anyone can do. \nOur service is only 30 minutes long.  \nOutline of the Service\n\nFirst 10 Minutes: Introductions and education on Heathen prayer\nSecond 10 Minutes: Prayer\nLast 10 Minutes: Questions and Answers with the Clergy
URL:https://thetroth.org/event/march-21-public-prayer-services/
LOCATION:The Troth on Twitch
CATEGORIES:Virtual Event
ATTACH;FMTTYPE=image/png:https://thetroth.org/wp-content/uploads/2023/06/placeholder-header.png
END:VEVENT
BEGIN:VEVENT
DTSTART;TZID=America/Chicago:20260328T203000
DTEND;TZID=America/Chicago:20260328T210000
DTSTAMP:20260421T162023
CREATED:20260304T025258Z
LAST-MODIFIED:20260304T025258Z
UID:8113-1774729800-1774731600@thetroth.org
SUMMARY:March 28th Public Prayer Service
DESCRIPTION:Join The Troth every Saturday morning at 7:00 AM and every Saturday night at 9:30 PM Eastern Time for a Heathen Prayer Service hosted by our clergy\nThe service is currently hosted by Rev. Ben Kowalsky-Grahek. \nHave you been curious about how Norse Pagan\, Heathen or Asatru prayer and ritual work? Have you read all your Sagas and Eddas (and your Saxo Grammaticus) and you want to see how we put it into practice? Look no further. The Troth has two weekly public prayer services streamed on Twitch (just Twitch for now\, but looking to expand in the future). \nOur clergy will take you through their practice\, break it down step by step (with citations available!)\, take prayer and praise requests\, and then we will go through the whole thing together\, with open time for questions at the end. \nWe are hoping through this series that we demystify Asatru\, Heathenry and Norse Paganism and show people that it  is not all homework: it’s a belief lived through practice that anyone can do. \nOur service is only 30 minutes long.  \nOutline of the Service\n\nFirst 10 Minutes: Introductions and education on Heathen prayer\nSecond 10 Minutes: Prayer\nLast 10 Minutes: Questions and Answers with the Clergy
URL:https://thetroth.org/event/march-28th-public-prayer-service/
LOCATION:The Troth on Twitch
CATEGORIES:Virtual Event
ATTACH;FMTTYPE=image/png:https://thetroth.org/wp-content/uploads/2023/06/placeholder-header.png
END:VEVENT
END:VCALENDAR