BEGIN:VCALENDAR
VERSION:2.0
PRODID:-//thetroth.org - ECPv6.15.20//NONSGML v1.0//EN
CALSCALE:GREGORIAN
METHOD:PUBLISH
X-WR-CALNAME:thetroth.org
X-ORIGINAL-URL:https://thetroth.org
X-WR-CALDESC:Events for thetroth.org
REFRESH-INTERVAL;VALUE=DURATION:PT1H
X-Robots-Tag:noindex
X-PUBLISHED-TTL:PT1H
BEGIN:VTIMEZONE
TZID:America/Chicago
BEGIN:DAYLIGHT
TZOFFSETFROM:-0600
TZOFFSETTO:-0500
TZNAME:CDT
DTSTART:20250309T080000
END:DAYLIGHT
BEGIN:STANDARD
TZOFFSETFROM:-0500
TZOFFSETTO:-0600
TZNAME:CST
DTSTART:20251102T070000
END:STANDARD
BEGIN:DAYLIGHT
TZOFFSETFROM:-0600
TZOFFSETTO:-0500
TZNAME:CDT
DTSTART:20260308T080000
END:DAYLIGHT
BEGIN:STANDARD
TZOFFSETFROM:-0500
TZOFFSETTO:-0600
TZNAME:CST
DTSTART:20261101T070000
END:STANDARD
BEGIN:DAYLIGHT
TZOFFSETFROM:-0600
TZOFFSETTO:-0500
TZNAME:CDT
DTSTART:20270314T080000
END:DAYLIGHT
BEGIN:STANDARD
TZOFFSETFROM:-0500
TZOFFSETTO:-0600
TZNAME:CST
DTSTART:20271107T070000
END:STANDARD
END:VTIMEZONE
BEGIN:VEVENT
DTSTART;TZID=America/Chicago:20260918T080000
DTEND;TZID=America/Chicago:20260920T170000
DTSTAMP:20260421T200728
CREATED:20260304T032122Z
LAST-MODIFIED:20260304T032122Z
UID:8117-1789718400-1789923600@thetroth.org
SUMMARY:Midwest Heathen Thing
DESCRIPTION:NOTE: This is not an official Troth Sponsored event. It is a major Heathen gathering and will have Troth members there! \nOverview\n\n\n\nAn inclusive heathen gathering for the Midwest (and beyond) Frith\, Workshops\, Rituals\, games. All meals included. \n\n\n\n\nMidwest Thing September 18-20 2026\nJoin us for a spectacular weekend of frith\, community\, and fun! Workshops\, rituals\, delicious meals\, and plenty of time to hang out and get to know each other. Exactly the thing we need in the Midwest!
URL:https://thetroth.org/event/midwest-heathen-thing/
ATTACH;FMTTYPE=image/jpeg:https://thetroth.org/wp-content/uploads/2026/03/646065037_10237937226145041_5568259456645105364_n.jpg
END:VEVENT
END:VCALENDAR