BEGIN:VCALENDAR
VERSION:2.0
PRODID:-//thetroth.org - ECPv6.15.20//NONSGML v1.0//EN
CALSCALE:GREGORIAN
METHOD:PUBLISH
X-WR-CALNAME:thetroth.org
X-ORIGINAL-URL:https://thetroth.org
X-WR-CALDESC:Events for thetroth.org
REFRESH-INTERVAL;VALUE=DURATION:PT1H
X-Robots-Tag:noindex
X-PUBLISHED-TTL:PT1H
BEGIN:VTIMEZONE
TZID:America/New_York
BEGIN:DAYLIGHT
TZOFFSETFROM:-0500
TZOFFSETTO:-0400
TZNAME:EDT
DTSTART:20220313T070000
END:DAYLIGHT
BEGIN:STANDARD
TZOFFSETFROM:-0400
TZOFFSETTO:-0500
TZNAME:EST
DTSTART:20221106T060000
END:STANDARD
BEGIN:DAYLIGHT
TZOFFSETFROM:-0500
TZOFFSETTO:-0400
TZNAME:EDT
DTSTART:20230312T070000
END:DAYLIGHT
BEGIN:STANDARD
TZOFFSETFROM:-0400
TZOFFSETTO:-0500
TZNAME:EST
DTSTART:20231105T060000
END:STANDARD
BEGIN:DAYLIGHT
TZOFFSETFROM:-0500
TZOFFSETTO:-0400
TZNAME:EDT
DTSTART:20240310T070000
END:DAYLIGHT
BEGIN:STANDARD
TZOFFSETFROM:-0400
TZOFFSETTO:-0500
TZNAME:EST
DTSTART:20241103T060000
END:STANDARD
END:VTIMEZONE
BEGIN:VTIMEZONE
TZID:America/Chicago
BEGIN:DAYLIGHT
TZOFFSETFROM:-0600
TZOFFSETTO:-0500
TZNAME:CDT
DTSTART:20220313T080000
END:DAYLIGHT
BEGIN:STANDARD
TZOFFSETFROM:-0500
TZOFFSETTO:-0600
TZNAME:CST
DTSTART:20221106T070000
END:STANDARD
BEGIN:DAYLIGHT
TZOFFSETFROM:-0600
TZOFFSETTO:-0500
TZNAME:CDT
DTSTART:20230312T080000
END:DAYLIGHT
BEGIN:STANDARD
TZOFFSETFROM:-0500
TZOFFSETTO:-0600
TZNAME:CST
DTSTART:20231105T070000
END:STANDARD
BEGIN:DAYLIGHT
TZOFFSETFROM:-0600
TZOFFSETTO:-0500
TZNAME:CDT
DTSTART:20240310T080000
END:DAYLIGHT
BEGIN:STANDARD
TZOFFSETFROM:-0500
TZOFFSETTO:-0600
TZNAME:CST
DTSTART:20241103T070000
END:STANDARD
END:VTIMEZONE
BEGIN:VTIMEZONE
TZID:America/Denver
BEGIN:DAYLIGHT
TZOFFSETFROM:-0700
TZOFFSETTO:-0600
TZNAME:MDT
DTSTART:20220313T090000
END:DAYLIGHT
BEGIN:STANDARD
TZOFFSETFROM:-0600
TZOFFSETTO:-0700
TZNAME:MST
DTSTART:20221106T080000
END:STANDARD
BEGIN:DAYLIGHT
TZOFFSETFROM:-0700
TZOFFSETTO:-0600
TZNAME:MDT
DTSTART:20230312T090000
END:DAYLIGHT
BEGIN:STANDARD
TZOFFSETFROM:-0600
TZOFFSETTO:-0700
TZNAME:MST
DTSTART:20231105T080000
END:STANDARD
BEGIN:DAYLIGHT
TZOFFSETFROM:-0700
TZOFFSETTO:-0600
TZNAME:MDT
DTSTART:20240310T090000
END:DAYLIGHT
BEGIN:STANDARD
TZOFFSETFROM:-0600
TZOFFSETTO:-0700
TZNAME:MST
DTSTART:20241103T080000
END:STANDARD
END:VTIMEZONE
BEGIN:VEVENT
DTSTART;TZID=America/New_York:20231211T180000
DTEND;TZID=America/New_York:20231211T200000
DTSTAMP:20260422T225751
CREATED:20230917T192521Z
LAST-MODIFIED:20230917T192623Z
UID:5587-1702317600-1702324800@thetroth.org
SUMMARY:New York City December Loremoot | North River Kindred | The Troth
DESCRIPTION:North River Kindred welcomes New York City Heathens to a lore discussion every second Monday of the month.\nThe North River Kindred and New York City Steward Paul Mercurio invite you to come down\, bring your questions\, and talk about the literature and history from which we built our modern Heathen religion. \nThey’ll be talking about different Gods\, events\, sources\, all in an open and affirming environment. \nCome down to the Bean on 3rd Avenue at 6pm on the second Monday of the month to see us!
URL:https://thetroth.org/event/new-york-city-december-loremoot-north-river-kindred/
LOCATION:The Bean at Astor Place\, 31 3rd ave\, New York\, NY\, 10003\, United States
CATEGORIES:In Person Event,Steward Event
ATTACH;FMTTYPE=image/jpeg:https://thetroth.org/wp-content/uploads/2023/06/IMG_20170624_212833-scaled-e1686672967327.jpg
END:VEVENT
BEGIN:VEVENT
DTSTART;TZID=America/New_York:20231113T180000
DTEND;TZID=America/New_York:20231113T200000
DTSTAMP:20260422T225751
CREATED:20230917T192315Z
LAST-MODIFIED:20230917T192315Z
UID:5585-1699898400-1699905600@thetroth.org
SUMMARY:New York City November Loremoot | North River Kindred | The Troth
DESCRIPTION:North River Kindred welcomes New York City Heathens to a lore discussion every second Monday of the month.\nThe North River Kindred and New York City Steward Paul Mercurio invite you to come down\, bring your questions\, and talk about the literature and history from which we built our modern Heathen religion. \nThey’ll be talking about different Gods\, events\, sources\, all in an open and affirming environment. \nCome down to the Bean on 3rd Avenue at 6pm on the second Monday of the month to see us!
URL:https://thetroth.org/event/new-york-city-november-loremoot-north-river-kindred/
LOCATION:The Bean at Astor Place\, 31 3rd ave\, New York\, NY\, 10003\, United States
CATEGORIES:In Person Event,Steward Event
ATTACH;FMTTYPE=image/jpeg:https://thetroth.org/wp-content/uploads/2023/06/IMG_20170624_212833-scaled-e1686672967327.jpg
END:VEVENT
BEGIN:VEVENT
DTSTART;VALUE=DATE:20231102
DTEND;VALUE=DATE:20231106
DTSTAMP:20260422T225751
CREATED:20231024T023823Z
LAST-MODIFIED:20231024T024013Z
UID:5903-1698883200-1699228799@thetroth.org
SUMMARY:Dark Side of the Runes Presentation | Hallowed Homecoming | The Troth
DESCRIPTION:The Troth will be at Hallowed Homecoming retreat the first weekend of November\, 2023\nHallowed Homecoming Productions is an organization composed of pagans walking various paths in the DMV area. Our driving goal is to present a retreat during Samhaintide that is open to all. The weekend retreat takes place in Prince William Forest Park\, which is a location that is special to many of us in the pagan community. The weekend includes workshops\, rituals\, fellowship\, and connection with our ancestors.\nOur Maryland Steward\, Scott Mohnkern is going to be giving a presentation on Saturday.\nHis presentation will be: \n\n\n\n10:30 AM – 12:00 PM\nThe Dark Side of the Runes\nScott Mohnkern\n\n\n\nWe thank Hallowed Homecoming Productions for putting together such a wonderful retreat! \nPrince William Park\, Virginia\nPrince William Forest Park is an oasis\, a respite of quiet and calm. In 1936\, Chopawamsic Recreation Area opened its gates to house children’s ‘relief’ camps during the Great Depression. Renamed Prince William Forest Park in 1948\, these fragrant woods and trickling streams have welcomed generations of campers\, hikers\, bikers and nature lovers. Discover Northern Virginia’s best kept secret!\nwww.hallowedhomecoming.com
URL:https://thetroth.org/event/hallowed-homecoming-retreat-troth/
CATEGORIES:In Person Event,Steward Event
ATTACH;FMTTYPE=image/jpeg:https://thetroth.org/wp-content/uploads/2023/08/image_67193345-scaled.jpg
END:VEVENT
BEGIN:VEVENT
DTSTART;TZID=America/New_York:20231009T180000
DTEND;TZID=America/New_York:20231009T200000
DTSTAMP:20260422T225751
CREATED:20230917T191754Z
LAST-MODIFIED:20230917T191754Z
UID:5572-1696874400-1696881600@thetroth.org
SUMMARY:New York City Heathen Loremoot | North River Kindred | The Troth
DESCRIPTION:North River Kindred welcomes New York City Heathens to a lore discussion every second Monday of the month.\nThe North River Kindred and New York City Steward Paul Mercurio invite you to come down\, bring your questions\, and talk about the literature and history from which we built our modern Heathen religion. \nThey’ll be talking about different Gods\, events\, sources\, all in an open and affirming environment. \nCome down to the Bean on 3rd Avenue at 6pm on the second Monday of the month to see us!
URL:https://thetroth.org/event/new-york-city-heathen-lore-chat/
LOCATION:The Bean at Astor Place\, 31 3rd ave\, New York\, NY\, 10003\, United States
CATEGORIES:In Person Event,Steward Event
ATTACH;FMTTYPE=image/jpeg:https://thetroth.org/wp-content/uploads/2023/06/IMG_20170624_212833-scaled-e1686672967327.jpg
END:VEVENT
BEGIN:VEVENT
DTSTART;TZID=America/Chicago:20230909T100000
DTEND;TZID=America/Chicago:20230909T180000
DTSTAMP:20260422T225751
CREATED:20230825T220311Z
LAST-MODIFIED:20230827T133803Z
UID:5269-1694253600-1694282400@thetroth.org
SUMMARY:Twin Cities Pagan Pride Fall Festival 2023 | Troth Inclusive Heathen Hangout
DESCRIPTION:Come down to support Pagan Pride in Minneapolis at Minnehaha Falls Regional Park!\nThe Troth will be hosting a family friendly get-together on the occasion of the Pagan Pride Fall Festival at the beautiful Minnehaha Falls Regional Park in Minneapolis on Saturday\, September 9th\, 2023. Troth members are welcome\, as well as people who are just curious about Heathenry/Asatru in general and want to know more. \nTake the opportunity to explore the Twin Cities Pagan community to learn more about our history\, hear the stories and meet the people who were there when “stuff went down” in the ancient times of the… late 80’s and early 90’s. \nYou’ll be adjacent to the Southeast Minneapolis neighborhoods which offer a Dairy Queen in addition to great breweries and pubs like Merlin’s Rest. You can even go to Blue Door Pub where they will serve you a burger that has melty cheese on the inside. You’ll also be right across the bridge from St. Paul’s Highland Park neighborhood\, which has… Panera. \n(OK\, kidding\, go to Cecil’s Deli on Cleveland and thank me later for the best Ruben of your life). \nThe Twin Cities Pagan Pride Fall Festival is held annually the Saturday after Labor Day from 10:00am-6:00pm at Minnehaha Falls Park (4801 S Minnehaha Park Dr) in Minneapolis. We are located between the falls and the bandshell\, just south of the Sea Salt restaurant.
URL:https://thetroth.org/event/twin-cities-pagan-pride-fall-festival-2023-troth-inclusive-heathen-hangout/
LOCATION:Minnehaha Falls State Park\, 4801 S Minnehaha Park Dr\, Minneapolis\, MN\, 55417\, United States
CATEGORIES:In Person Event,Steward Event
ATTACH;FMTTYPE=image/jpeg:https://thetroth.org/wp-content/uploads/2023/06/F9EA9070-B2B0-45E0-8EEC-8883AD350821_1_105_c-e1685824170127.jpeg
END:VEVENT
BEGIN:VEVENT
DTSTART;TZID=America/New_York:20230908T150000
DTEND;TZID=America/New_York:20230908T200000
DTSTAMP:20260422T225751
CREATED:20230828T194346Z
LAST-MODIFIED:20230828T194346Z
UID:5415-1694185200-1694203200@thetroth.org
SUMMARY:Dayton Ohio Inclusive Heathen Meet and Greet | The Troth
DESCRIPTION:The Troth Meet & Greet: Come meet your new Ohio Steward\n\nI am putting a call out for like-minded all-inclusive Heathens\, Pagans\, or even those who are still curious or uncertain\, in the greater Dayton area to meet me on Friday the 8th of September (3:00pm-8:00pm) for a casual meet and greet\, so I may get to know our surrounding community.\n\nI hope anyone with the free time and within a comfortable distance can come introduce themselves\, their kindreds or groups\, and meet those of like minds for a few hours. I would enjoy spending time and hearing how you came along your Heathen path\, what you wish to see in Ohio’s greater community\, and anything else we might touch on as we get to know each other.\n\nI am Michael Brunswick and have been a pagan for the last 27-ish years\, heathen-ish for the last 4 years\, and Troth for just over a year. I have joined the Troth and volunteered for the position of Ohio steward to find community\, to be a point of contact for those who seek community\, and to do my very best to serve our community in all its needs.\n\n\n\nI chose to start in the greater Dayton area as it is closer to my home in Wapakoneta\, Ohio\, is a west central Ohio hub\, and has a large MetroPark area.\n\nWe will be meeting in Taylorsville MetroPark\, a park stating that it was one of the busiest crossroads in the country\, the meeting place of major transportation arteries – the Old National Road\, Great Miami River\, the Miami-Erie Canal and railroads. I found this as a very symbolic place to first meet. The Shelter will be the CCC Shelter on the east side of the park\, build in 1930’s by the Civilian Conservation Corps.\n\nThis rustic shelter has multiple rooms in case old friends or new wish to catch up\, a fireplace\, and access to trails if anyone desires a walk after.\n\n\n\nTaylorsville MetroPark\nShelter: CCC\n2101 U.S. 40\nVandalia\, Ohio 45377
URL:https://thetroth.org/event/dayton-ohio-asatru-meetup/
LOCATION:Taylorsville MetroPark\, 2101 U.S. 40\, Shelter: CCC\, Vandalia\, OH\, 45377\, United States
CATEGORIES:In Person Event,Steward Event
ATTACH;FMTTYPE=image/jpeg:https://thetroth.org/wp-content/uploads/2023/08/image0.jpeg
END:VEVENT
BEGIN:VEVENT
DTSTART;TZID=America/Denver:20230902T100000
DTEND;TZID=America/Denver:20230902T120000
DTSTAMP:20260422T225751
CREATED:20230805T144312Z
LAST-MODIFIED:20230805T144342Z
UID:5149-1693648800-1693656000@thetroth.org
SUMMARY:Denver Metro Coffeemoot
DESCRIPTION:Monthly Denver Metro Coffeemoot with Colorado Steward Piper Perry\nFirst Saturday of the month 10-12pm MST time \nProdigy Coffeehouse \n40th and Colorado Blvd \nDenver\, CO
URL:https://thetroth.org/event/denver-metro-coffeemoot/
LOCATION:Prodigy Coffeehouse\, 801 E 40th Ave\, Denver\, CO\, 80205\, United States
CATEGORIES:In Person Event,Steward Event
ATTACH;FMTTYPE=image/jpeg:https://thetroth.org/wp-content/uploads/2023/06/PXL_20230604_202624363.PORTRAIT-1-scaled.jpg
END:VEVENT
END:VCALENDAR