BEGIN:VCALENDAR
VERSION:2.0
PRODID:-//thetroth.org - ECPv6.15.20//NONSGML v1.0//EN
CALSCALE:GREGORIAN
METHOD:PUBLISH
X-WR-CALNAME:thetroth.org
X-ORIGINAL-URL:https://thetroth.org
X-WR-CALDESC:Events for thetroth.org
REFRESH-INTERVAL;VALUE=DURATION:PT1H
X-Robots-Tag:noindex
X-PUBLISHED-TTL:PT1H
BEGIN:VTIMEZONE
TZID:America/Chicago
BEGIN:DAYLIGHT
TZOFFSETFROM:-0600
TZOFFSETTO:-0500
TZNAME:CDT
DTSTART:20220313T080000
END:DAYLIGHT
BEGIN:STANDARD
TZOFFSETFROM:-0500
TZOFFSETTO:-0600
TZNAME:CST
DTSTART:20221106T070000
END:STANDARD
BEGIN:DAYLIGHT
TZOFFSETFROM:-0600
TZOFFSETTO:-0500
TZNAME:CDT
DTSTART:20230312T080000
END:DAYLIGHT
BEGIN:STANDARD
TZOFFSETFROM:-0500
TZOFFSETTO:-0600
TZNAME:CST
DTSTART:20231105T070000
END:STANDARD
BEGIN:DAYLIGHT
TZOFFSETFROM:-0600
TZOFFSETTO:-0500
TZNAME:CDT
DTSTART:20240310T080000
END:DAYLIGHT
BEGIN:STANDARD
TZOFFSETFROM:-0500
TZOFFSETTO:-0600
TZNAME:CST
DTSTART:20241103T070000
END:STANDARD
END:VTIMEZONE
BEGIN:VTIMEZONE
TZID:America/New_York
BEGIN:DAYLIGHT
TZOFFSETFROM:-0500
TZOFFSETTO:-0400
TZNAME:EDT
DTSTART:20220313T070000
END:DAYLIGHT
BEGIN:STANDARD
TZOFFSETFROM:-0400
TZOFFSETTO:-0500
TZNAME:EST
DTSTART:20221106T060000
END:STANDARD
BEGIN:DAYLIGHT
TZOFFSETFROM:-0500
TZOFFSETTO:-0400
TZNAME:EDT
DTSTART:20230312T070000
END:DAYLIGHT
BEGIN:STANDARD
TZOFFSETFROM:-0400
TZOFFSETTO:-0500
TZNAME:EST
DTSTART:20231105T060000
END:STANDARD
BEGIN:DAYLIGHT
TZOFFSETFROM:-0500
TZOFFSETTO:-0400
TZNAME:EDT
DTSTART:20240310T070000
END:DAYLIGHT
BEGIN:STANDARD
TZOFFSETFROM:-0400
TZOFFSETTO:-0500
TZNAME:EST
DTSTART:20241103T060000
END:STANDARD
END:VTIMEZONE
BEGIN:VTIMEZONE
TZID:America/Denver
BEGIN:DAYLIGHT
TZOFFSETFROM:-0700
TZOFFSETTO:-0600
TZNAME:MDT
DTSTART:20220313T090000
END:DAYLIGHT
BEGIN:STANDARD
TZOFFSETFROM:-0600
TZOFFSETTO:-0700
TZNAME:MST
DTSTART:20221106T080000
END:STANDARD
BEGIN:DAYLIGHT
TZOFFSETFROM:-0700
TZOFFSETTO:-0600
TZNAME:MDT
DTSTART:20230312T090000
END:DAYLIGHT
BEGIN:STANDARD
TZOFFSETFROM:-0600
TZOFFSETTO:-0700
TZNAME:MST
DTSTART:20231105T080000
END:STANDARD
BEGIN:DAYLIGHT
TZOFFSETFROM:-0700
TZOFFSETTO:-0600
TZNAME:MDT
DTSTART:20240310T090000
END:DAYLIGHT
BEGIN:STANDARD
TZOFFSETFROM:-0600
TZOFFSETTO:-0700
TZNAME:MST
DTSTART:20241103T080000
END:STANDARD
END:VTIMEZONE
BEGIN:VEVENT
DTSTART;TZID=America/Chicago:20230917T140000
DTEND;TZID=America/Chicago:20230917T160000
DTSTAMP:20260423T010200
CREATED:20230905T150222Z
LAST-MODIFIED:20230905T150222Z
UID:5473-1694959200-1694966400@thetroth.org
SUMMARY:Pagans for Peace Ritual for Peace and Justice | Black Bear Kindred | The Troth
DESCRIPTION:Lauren Crow\, President and CEO of The Troth to conduct ritual at Arkansas Peace Week\nJoin us at Maumelle Park Pavilion 1 for a ritual for peace and justice! This ritual is part of Arkansas Peace Week\, an event that celebrates non-violence as a means to instill justice\, build stronger communities\, alleviate poverty\, promote ecological stewardship\, end war\, and eliminate the scourge of violence in our society; while seeking respect\, inclusion and fair treatment of all people. \nThe Hosts: Black Bear Kindred of Central Arkansas is a Heathen tribe based around Little Rock and Conway.\nWe meet monthly in either Conway or Little Rock for public meetups. Our Kindred: \n\nBelieves that the worth of those who follow our path is based on their deeds and not their age\, ethnicity\, gender expression\, or family status\nActively honors the Goddesses and Gods of pre-Christian Northern Europe who are commonly known as the Aesir and Vanir.\nBuilds ties to our local wights.\nHonors and remembers our ancestors and their contributions to our family luck.\nCultivates frith and fellowship among our kin.\nShapes our own tradition. This tradition is based on a foundation of Heathenry but also influenced by our local cultural resources and geographical considerations.\nNurtures the emotional\, spiritual\, and physical growth of our folk. Gives back to our local community as a group and as individuals.
URL:https://thetroth.org/event/pagans-for-peace-ritual-black-bear-kindred-troth/
LOCATION:Maumelle Park\, 9009 Pinnacle Valley Rd\, Little Rock\, AR\, 72223\, United States
CATEGORIES:In Person Event
ATTACH;FMTTYPE=image/png:https://thetroth.org/wp-content/uploads/2023/09/black-bear-kindred-logo.png
ORGANIZER;CN="Black Bear Kindred":MAILTO:swmbo@blackbearkindred.org
END:VEVENT
BEGIN:VEVENT
DTSTART;TZID=America/Chicago:20230909T100000
DTEND;TZID=America/Chicago:20230909T180000
DTSTAMP:20260423T010200
CREATED:20230825T220311Z
LAST-MODIFIED:20230827T133803Z
UID:5269-1694253600-1694282400@thetroth.org
SUMMARY:Twin Cities Pagan Pride Fall Festival 2023 | Troth Inclusive Heathen Hangout
DESCRIPTION:Come down to support Pagan Pride in Minneapolis at Minnehaha Falls Regional Park!\nThe Troth will be hosting a family friendly get-together on the occasion of the Pagan Pride Fall Festival at the beautiful Minnehaha Falls Regional Park in Minneapolis on Saturday\, September 9th\, 2023. Troth members are welcome\, as well as people who are just curious about Heathenry/Asatru in general and want to know more. \nTake the opportunity to explore the Twin Cities Pagan community to learn more about our history\, hear the stories and meet the people who were there when “stuff went down” in the ancient times of the… late 80’s and early 90’s. \nYou’ll be adjacent to the Southeast Minneapolis neighborhoods which offer a Dairy Queen in addition to great breweries and pubs like Merlin’s Rest. You can even go to Blue Door Pub where they will serve you a burger that has melty cheese on the inside. You’ll also be right across the bridge from St. Paul’s Highland Park neighborhood\, which has… Panera. \n(OK\, kidding\, go to Cecil’s Deli on Cleveland and thank me later for the best Ruben of your life). \nThe Twin Cities Pagan Pride Fall Festival is held annually the Saturday after Labor Day from 10:00am-6:00pm at Minnehaha Falls Park (4801 S Minnehaha Park Dr) in Minneapolis. We are located between the falls and the bandshell\, just south of the Sea Salt restaurant.
URL:https://thetroth.org/event/twin-cities-pagan-pride-fall-festival-2023-troth-inclusive-heathen-hangout/
LOCATION:Minnehaha Falls State Park\, 4801 S Minnehaha Park Dr\, Minneapolis\, MN\, 55417\, United States
CATEGORIES:In Person Event,Steward Event
ATTACH;FMTTYPE=image/jpeg:https://thetroth.org/wp-content/uploads/2023/06/F9EA9070-B2B0-45E0-8EEC-8883AD350821_1_105_c-e1685824170127.jpeg
END:VEVENT
BEGIN:VEVENT
DTSTART;TZID=America/New_York:20230908T150000
DTEND;TZID=America/New_York:20230908T200000
DTSTAMP:20260423T010200
CREATED:20230828T194346Z
LAST-MODIFIED:20230828T194346Z
UID:5415-1694185200-1694203200@thetroth.org
SUMMARY:Dayton Ohio Inclusive Heathen Meet and Greet | The Troth
DESCRIPTION:The Troth Meet & Greet: Come meet your new Ohio Steward\n\nI am putting a call out for like-minded all-inclusive Heathens\, Pagans\, or even those who are still curious or uncertain\, in the greater Dayton area to meet me on Friday the 8th of September (3:00pm-8:00pm) for a casual meet and greet\, so I may get to know our surrounding community.\n\nI hope anyone with the free time and within a comfortable distance can come introduce themselves\, their kindreds or groups\, and meet those of like minds for a few hours. I would enjoy spending time and hearing how you came along your Heathen path\, what you wish to see in Ohio’s greater community\, and anything else we might touch on as we get to know each other.\n\nI am Michael Brunswick and have been a pagan for the last 27-ish years\, heathen-ish for the last 4 years\, and Troth for just over a year. I have joined the Troth and volunteered for the position of Ohio steward to find community\, to be a point of contact for those who seek community\, and to do my very best to serve our community in all its needs.\n\n\n\nI chose to start in the greater Dayton area as it is closer to my home in Wapakoneta\, Ohio\, is a west central Ohio hub\, and has a large MetroPark area.\n\nWe will be meeting in Taylorsville MetroPark\, a park stating that it was one of the busiest crossroads in the country\, the meeting place of major transportation arteries – the Old National Road\, Great Miami River\, the Miami-Erie Canal and railroads. I found this as a very symbolic place to first meet. The Shelter will be the CCC Shelter on the east side of the park\, build in 1930’s by the Civilian Conservation Corps.\n\nThis rustic shelter has multiple rooms in case old friends or new wish to catch up\, a fireplace\, and access to trails if anyone desires a walk after.\n\n\n\nTaylorsville MetroPark\nShelter: CCC\n2101 U.S. 40\nVandalia\, Ohio 45377
URL:https://thetroth.org/event/dayton-ohio-asatru-meetup/
LOCATION:Taylorsville MetroPark\, 2101 U.S. 40\, Shelter: CCC\, Vandalia\, OH\, 45377\, United States
CATEGORIES:In Person Event,Steward Event
ATTACH;FMTTYPE=image/jpeg:https://thetroth.org/wp-content/uploads/2023/08/image0.jpeg
END:VEVENT
BEGIN:VEVENT
DTSTART;TZID=America/New_York:20230902T100000
DTEND;TZID=America/New_York:20230902T180000
DTSTAMP:20260423T010200
CREATED:20230827T133437Z
LAST-MODIFIED:20230827T133437Z
UID:5384-1693648800-1693677600@thetroth.org
SUMMARY:Philadelphia Pagan Pride | The Troth & Distelfink Schippschaft
DESCRIPTION:The Mission of the Pagan Pride Project is to foster pride in Pagan identity through education\, activism\, charity and community.\nIn keeping with that mission\, Philadelphia Pagan Pride Day is intended to bring together Pagans of all traditions to advance understanding\, communication and fellowship among the various communities. \nPhiladelphia Pagan Pride Day is an open\, public\, family-friendly harvest event. We welcome anyone to participate who supports our mission and/or wishes to learn more about the Pagan community and our beliefs. An important facet of the mission is to build community among Pagans\, and adherents of non-traditional faith systems and to educate the greater community about those beliefs. \nThe event is designed as a celebration of life and of a community that contains diverse elements. That being said\, we also find hate and intolerance in any form abhorrent and counterproductive to our mission. \nWe on the Philadelphia Pagan Pride Board of Directors are committed to our stated mission as part of the greater Pagan Pride Project.The integrity of Philadelphia Pagan Pride Day\, its mission and the safety of the participants are our primary obligations as organizers of the event. \n\n\nAny decisions made regarding changes to the schedule of events are based solely on the effort to fulfill our mission and to provide an enjoyable and meaningful event for our community. \nThe views\, opinions\, and outside affiliations of the participants and attendees of Philadelphia Pagan Pride Day do not necessarily reflect the views of the organization\, its Board\, or event volunteers. \n\nWorkshop: Heathens\, Animists and the Sacred Duty\nBy Steward Ambassador Stacey Lynne Stewart. \n3:00 PM – 4:00 PM
URL:https://thetroth.org/event/philadelphia-pagan-pride-2023/
LOCATION:Clark Park\, 4301 Chester Ave\, Philadelphia\, PA\, 19104\, United States
CATEGORIES:In Person Event
ATTACH;FMTTYPE=image/png:https://thetroth.org/wp-content/uploads/2023/06/Screenshot-2023-06-15-at-7.14.45-PM.png
ORGANIZER;CN="Distelfink Sippschaft":MAILTO:info@urglaawe.org
END:VEVENT
BEGIN:VEVENT
DTSTART;TZID=America/Denver:20230902T100000
DTEND;TZID=America/Denver:20230902T120000
DTSTAMP:20260423T010200
CREATED:20230805T144312Z
LAST-MODIFIED:20230805T144342Z
UID:5149-1693648800-1693656000@thetroth.org
SUMMARY:Denver Metro Coffeemoot
DESCRIPTION:Monthly Denver Metro Coffeemoot with Colorado Steward Piper Perry\nFirst Saturday of the month 10-12pm MST time \nProdigy Coffeehouse \n40th and Colorado Blvd \nDenver\, CO
URL:https://thetroth.org/event/denver-metro-coffeemoot/
LOCATION:Prodigy Coffeehouse\, 801 E 40th Ave\, Denver\, CO\, 80205\, United States
CATEGORIES:In Person Event,Steward Event
ATTACH;FMTTYPE=image/jpeg:https://thetroth.org/wp-content/uploads/2023/06/PXL_20230604_202624363.PORTRAIT-1-scaled.jpg
END:VEVENT
BEGIN:VEVENT
DTSTART;VALUE=DATE:20230901
DTEND;VALUE=DATE:20230904
DTSTAMP:20260423T010200
CREATED:20230828T020716Z
LAST-MODIFIED:20230828T020717Z
UID:5402-1693526400-1693785599@thetroth.org
SUMMARY:Frosted Moon Festival | The Troth
DESCRIPTION:Music\, Classes\, Workshops.. Food\, Campfire\, Vendors ~ come spend Labor Day weekend with us on the Farm @ Hidden Acres Farm\,~ where we believe in Love\, do not Tolerate Discrimination\, Believe you can be whom you feel is right for You. A Wonderful Weekend of Fellowship with like minds Souls.. Weekend Passes are 30.00 per Person\, includes all activities and a camping spot. \nLauren Crow will be one of the guests of honor at Frosted Pumpkin Pagan Pride in Russellville\, AR. She will be doing the main ritual\, a class on creating your own folk magic practice\, and an art class.
URL:https://thetroth.org/event/frosted-moon-festival-arkansas/
LOCATION:Hidden Acres Farm\, 411 Sims Hollow Rd\, Russellville\, AR\, 72802\, United States
CATEGORIES:In Person Event
ATTACH;FMTTYPE=image/jpeg:https://thetroth.org/wp-content/uploads/2023/06/327430144_1399358810826112_2526000325295072762_n.jpg
END:VEVENT
END:VCALENDAR