BEGIN:VCALENDAR
VERSION:2.0
PRODID:-//thetroth.org - ECPv6.15.20//NONSGML v1.0//EN
CALSCALE:GREGORIAN
METHOD:PUBLISH
X-WR-CALNAME:thetroth.org
X-ORIGINAL-URL:https://thetroth.org
X-WR-CALDESC:Events for thetroth.org
REFRESH-INTERVAL;VALUE=DURATION:PT1H
X-Robots-Tag:noindex
X-PUBLISHED-TTL:PT1H
BEGIN:VTIMEZONE
TZID:America/Chicago
BEGIN:DAYLIGHT
TZOFFSETFROM:-0600
TZOFFSETTO:-0500
TZNAME:CDT
DTSTART:20250309T080000
END:DAYLIGHT
BEGIN:STANDARD
TZOFFSETFROM:-0500
TZOFFSETTO:-0600
TZNAME:CST
DTSTART:20251102T070000
END:STANDARD
BEGIN:DAYLIGHT
TZOFFSETFROM:-0600
TZOFFSETTO:-0500
TZNAME:CDT
DTSTART:20260308T080000
END:DAYLIGHT
BEGIN:STANDARD
TZOFFSETFROM:-0500
TZOFFSETTO:-0600
TZNAME:CST
DTSTART:20261101T070000
END:STANDARD
BEGIN:DAYLIGHT
TZOFFSETFROM:-0600
TZOFFSETTO:-0500
TZNAME:CDT
DTSTART:20270314T080000
END:DAYLIGHT
BEGIN:STANDARD
TZOFFSETFROM:-0500
TZOFFSETTO:-0600
TZNAME:CST
DTSTART:20271107T070000
END:STANDARD
END:VTIMEZONE
BEGIN:VEVENT
DTSTART;TZID=America/Chicago:20260314T140000
DTEND;TZID=America/Chicago:20260314T160000
DTSTAMP:20260423T005854
CREATED:20260308T190824Z
LAST-MODIFIED:20260308T190824Z
UID:8175-1773496800-1773504000@thetroth.org
SUMMARY:March 14th Twin Cities Minnesota Inclusive Heathen Meetup
DESCRIPTION:Every 2nd Saturday of the month\, join inclusive Heathens from the Twin Cities for a meetup at White Bear Meadery in White Bear\, Minnesota!\nThis is a casual drop-in event where Heathens\, Norse Pagans and Asatruar from all over the Twin Cities can meet and greet others from the area\, make connections\, plan holiday celebrations\, and of course drink a little mead (or delicious non-alcoholic Simaa)\, chow down on Heggies Pizza\, and support a local meadery! \nNitty Gritty Information\n\nWe try to meet on the 2nd Saturday of each month at 2PM\nThere is no charge for tickets.\nNo child-care will be provided. If you bring your children\, please be sure to mind them while they are at the venue.\nNo food or beverage will be provided.\nMenu for the venue is here \nThis is a Meadery so alcohol will be present though the venue offers several-non alcoholic options.\nThe venue is handicap accessible with free parking.\n\n 
URL:https://thetroth.org/event/march-14th-twin-cities-minnesota-inclusive-heathen-meetup/
LOCATION:White Bear Meadery\, 1320 County Rd D Cir\, Maplewood\, MN\, 55109\, United States
CATEGORIES:In Person Event
ATTACH;FMTTYPE=image/png:https://thetroth.org/wp-content/uploads/2023/06/placeholder-header.png
END:VEVENT
BEGIN:VEVENT
DTSTART;VALUE=DATE:20260320
DTEND;VALUE=DATE:20260323
DTSTAMP:20260423T005854
CREATED:20260308T185622Z
LAST-MODIFIED:20260308T185622Z
UID:8170-1773964800-1774223999@thetroth.org
SUMMARY:The Troth Co-Hosted Heathen Hospitality Suite at Paganicon 2026
DESCRIPTION:The Troth is co-hosting a Heathen Hospitality Suite with Northern Pagan Church and Minnesota Old Ways Fellowship at Paganicon 2026\nCome visit us during Paganicon 2026 for some respite\, refreshment\, and several exhibits of Norse Pagan projects that are coming from Northern Pagan Church and the Minnesota Old Ways Fellowship!
URL:https://thetroth.org/event/the-troth-co-hosted-heathen-hospitality-suite-at-paganicon-2026/
LOCATION:Paganicon at the Doubletree Hotel Bloomington\, 7800 Normandale Blvd\, Bloomington\, MN\, United States
CATEGORIES:In Person Event
ATTACH;FMTTYPE=image/png:https://thetroth.org/wp-content/uploads/2023/06/placeholder-header.png
END:VEVENT
END:VCALENDAR