BEGIN:VCALENDAR
VERSION:2.0
PRODID:-//thetroth.org - ECPv6.15.20//NONSGML v1.0//EN
CALSCALE:GREGORIAN
METHOD:PUBLISH
X-WR-CALNAME:thetroth.org
X-ORIGINAL-URL:https://thetroth.org
X-WR-CALDESC:Events for thetroth.org
REFRESH-INTERVAL;VALUE=DURATION:PT1H
X-Robots-Tag:noindex
X-PUBLISHED-TTL:PT1H
BEGIN:VTIMEZONE
TZID:America/Chicago
BEGIN:DAYLIGHT
TZOFFSETFROM:-0600
TZOFFSETTO:-0500
TZNAME:CDT
DTSTART:20240310T080000
END:DAYLIGHT
BEGIN:STANDARD
TZOFFSETFROM:-0500
TZOFFSETTO:-0600
TZNAME:CST
DTSTART:20241103T070000
END:STANDARD
BEGIN:DAYLIGHT
TZOFFSETFROM:-0600
TZOFFSETTO:-0500
TZNAME:CDT
DTSTART:20250309T080000
END:DAYLIGHT
BEGIN:STANDARD
TZOFFSETFROM:-0500
TZOFFSETTO:-0600
TZNAME:CST
DTSTART:20251102T070000
END:STANDARD
BEGIN:DAYLIGHT
TZOFFSETFROM:-0600
TZOFFSETTO:-0500
TZNAME:CDT
DTSTART:20260308T080000
END:DAYLIGHT
BEGIN:STANDARD
TZOFFSETFROM:-0500
TZOFFSETTO:-0600
TZNAME:CST
DTSTART:20261101T070000
END:STANDARD
END:VTIMEZONE
BEGIN:VEVENT
DTSTART;TZID=America/Chicago:20251220T110000
DTEND;TZID=America/Chicago:20251220T130000
DTSTAMP:20260421T232616
CREATED:20250201T200949Z
LAST-MODIFIED:20250201T200949Z
UID:7338-1766228400-1766235600@thetroth.org
SUMMARY:December Third Saturday Heathen Essentials 2025 12 noon EST
DESCRIPTION:December Third Saturday Heathen Essentials 2025 12 noon EST\nThird Saturday Heathen Essentials 2025 \nTime: Saturdays 12:00 Eastern Time (US and Canada) 1600 UTC \n        Every month on the Third Sat\, until Dec 20\, 2025\, 12 occurrence(s) \nJoin Zoom Meeting \nhttps://us02web.zoom.us/j/88441126826?pwd=4Kiey4YBjYRx16SZFtNAqZp7yy9NoX.1 \nMeeting ID: 884 4112 6826 \nPasscode: 195894 \nTo join by phone find local number: Meeting ID: 884 4112 6826 \nPasscode: 195894 \nFind your local number: https://us02web.zoom.us/u/kcQCZJgkd \nTo add these classes to your calendar: Please download and import the following iCalendar (.ics) files to your calendar system. Monthly: https://us02web.zoom.us/meeting/tZwpc-iprD0iGNJoDpid4RcdIEu08BOsBxnN/ics?icsToken=DC23tkgTFKYlMbx2rQAALAAAAOVW7cyI6AGu0y5Ue9eJGC_s8-csJyQPOmdDEzmWuSY-ZYCTnSnLhYQfyW7Oi4p50G9WlvsRZOy9SFREezAwMDAwMQ&meetingMasterEventId=2_QMNkwvSHKnLek3lhsW8w \nPlease adjust meeting time for your time zone. World Clock to find your time zone https://www.timeanddate.com/worldclock/converter.html \nhttps://www.timeanddate.com/worldclock/meeting.html \nFacebook group optional for those doing the self-study course. Membership in The Troth is not required. https://www.facebook.com/groups/heathenessentialscourse \nAny questions please email: heathenessentials@thetroth.org \nAbout the Heathenry Essentials Study Chat \nWelcome to Heathenry (also known as Asatru). \nEvery month\, Heathen Essential Chat and social \nPerhaps you are beginning your journey as a Heathen. You may have friends or family that have become Heathen\, and you’d like to know more about it. We hope that\, as you work through the readings\, essays\, and sample questions\, you will develop a fuller understanding of Asatru and what it means to be Heathen in a modern context. This free resource is available to the public as part of our continuing mission to educate and serve. You can take this course without membership in The Troth to learn more about the basics of our faith. \nHow the Heathenry Essentials Study Chat Works \nThe first 60 to 90 minutes we usually discuss the subjects chosen by those who attend the chat\, focusing on their areas of interest. Each student is learning at their own pace. Some questions may be specific\, others may be general. Any questions on heathenry is welcome. The Zoom meetings are offered as a resource to ask questions and chat with other heathens. Attending the Zoom meeting is NOT required to do the self-study course\, and many students do the course never attending a single meeting. \nThe first part of questions and discussion or presentation is part may be recorded. After the focused study chat\, the remaining time will be spent on social chat. This portion will not be recorded. This part does not require attendance to participate in the study chat; you can drop off at any time if attending the study part\, attending the social part is not required.  You are also welcome to come late if needed. If the room is still open and available\, you will be admitted. \nPrivacy: If being recorded causes privacy to be a concern for you\, feel free to join with the video blocked\, or an attendee can put up a neutral picture in their free Zoom account (or leave blank). Attendees can change their names to a code name and use the chat feature if speaking and having their voice heard or recorded may be a concern. \nWhen entering\, you first enter a waiting room where all who join the room are admitted with their microphones and videos blocked to allow them to set their preferences. This allows you to set your settings as you desire. It is recommended you set up a free Zoom account so you can preset a display picture\, (keep it appropriate) your display when camera is turned off\, so it is ready when entering zoom meetings. \nBy joining the Zoom meeting for the chat part\, you consent to and agree that you are aware that the Zoom chat may be recorded and may be posted to YouTube for students in the program. By joining and participating\, you are demonstrating that you consent to this. \nUpdated 1/4/2025
URL:https://thetroth.org/event/december-third-saturday-heathen-essentials-2025-12-noon-est/
LOCATION:MN
CATEGORIES:Virtual Event
ATTACH;FMTTYPE=image/jpeg:https://thetroth.org/wp-content/uploads/2023/06/140.jpg
END:VEVENT
END:VCALENDAR